BEGIN:VCALENDAR
VERSION:2.0
PRODID:-//eventon.com NONSGML v1.0//EN
CALSCALE:GREGORIAN
METHOD:PUBLISH
BEGIN:VEVENT
UID:69e8f67650f4a
DTSTAMP:20260422T162526Z
DTSTART:20230303T223000Z
DTEND:20230303T233000Z
LOCATION:
SUMMARY:Charla en el IES Julián Marías
DESCRIPTION:ALGUNOS DE LOS MENTORES SE TRASLADARÁN AL IES JULIÁN MARÍAS 
 PARA DAR A CONOCER EL PROYECTO A LOS ESTUDIANTES. ADEMÁS TAMBIÉN REALIZAR
 ÁN UN TALLER CON ELLOS.\nhttps://mentoria-fyl.uva.es/events/charla-en-el-i
 es-julian-marias/
URL:https://mentoria-fyl.uva.es/events/charla-en-el-ies-julian-marias/
END:VEVENT
END:VCALENDAR