BEGIN:VCALENDAR
VERSION:2.0
PRODID:-//eventon.com NONSGML v1.0//EN
CALSCALE:GREGORIAN
METHOD:PUBLISH
BEGIN:VEVENT
UID:69ebfad58e387
DTSTAMP:20260424T232053Z
DTSTART:20230329T003000Z
DTEND:20230329T012000Z
LOCATION:
SUMMARY:Charla IES Parquesol
DESCRIPTION:ALGUNOS DE LOS MENTORES SE TRASLADARÁN AL IES PARQUESOL PARA D
 AR A CONOCER EL PROYECTO A LOS ESTUDIANTES. ADEMÁS TAMBIÉN REALIZARÁN UN
  TALLER CON ELLOS.\nhttps://mentoria-fyl.uva.es/events/charla-ies-parquesol
 /
URL:https://mentoria-fyl.uva.es/events/charla-ies-parquesol/
END:VEVENT
END:VCALENDAR