BEGIN:VCALENDAR
VERSION:2.0
PRODID:-//eventon.com NONSGML v1.0//EN
CALSCALE:GREGORIAN
METHOD:PUBLISH
BEGIN:VEVENT
UID:69e6f6c872c6f
DTSTAMP:20260421T040216Z
DTSTART:20240315T213000Z
DTEND:20240315T233000Z
LOCATION:
SUMMARY:NUEVA SESION
DESCRIPTION:EL PROXIMO VIERNES 15\,  CONTINUAMOS CON LAS SESIONES DE CINE E
  HISTORIA. LA PROFESORA DE HISTORIA DEL ARTE\,  MARÍA JOSÉ MARTÍNEZ RUIZ
 \,  NOS ACOMPAÑA POR LA EDAD MEDIA Y LA PESTE.\nhttps://mentoria-fyl.uva.e
 s/events/nueva-sesion/
URL:https://mentoria-fyl.uva.es/events/nueva-sesion/
END:VEVENT
END:VCALENDAR