BEGIN:VCALENDAR
VERSION:2.0
PRODID:-//eventon.com NONSGML v1.0//EN
CALSCALE:GREGORIAN
METHOD:PUBLISH
BEGIN:VEVENT
UID:69ebfaf2b1218
DTSTAMP:20260424T232122Z
DTSTART:20240412T213000Z
DTEND:20240412T233000Z
LOCATION:
SUMMARY:Nueva sesión de Historia y Cine
DESCRIPTION:El día 12 de abril continuamos con las sesiones de Cine e Hist
 oria\,  con la referencia a La Misión. La mirada nos lleva a las misiones 
 jesuíticas en América\,  y los conflcitos de límites entre las coronas d
 e Portugal y España. El profesor Javier Burrieza nos acompañaña por esta
  nueva[..]\nhttps://mentoria-fyl.uva.es/events/nueva-sesion-de-historia-y-c
 ine/
URL:https://mentoria-fyl.uva.es/events/nueva-sesion-de-historia-y-cine/
END:VEVENT
END:VCALENDAR