BEGIN:VCALENDAR
VERSION:2.0
PRODID:-//eventon.com NONSGML v1.0//EN
CALSCALE:GREGORIAN
METHOD:PUBLISH
BEGIN:VEVENT
UID:69e90ef6172ba
DTSTAMP:20260422T180958Z
DTSTART:20240517T230000Z
DTEND:20240518T010000Z
LOCATION:
SUMMARY:MINI TORNEO DE JUGGER: ¿QUIERES JUGAR?
DESCRIPTION:https://www.youtube.com/watch?v=Eo2wyuVYBME https://www.youtube
 .com/watch?v=fyNjsC58-XU\nhttps://mentoria-fyl.uva.es/events/mini-torneo-de
 -jugger-quieres-jugar/
URL:https://mentoria-fyl.uva.es/events/mini-torneo-de-jugger-quieres-jugar/
END:VEVENT
END:VCALENDAR